BEGIN:VCALENDAR
VERSION:2.0
PRODID:-//eventon.com NONSGML v1.0//EN
BEGIN:VEVENT
UID:69e78044db336
DTSTAMP:20260421T154852
DTSTART:20250717T060000Z
DTEND:20250717T150000Z
TZID:Europe/Berlin
LOCATION:
SUMMARY:DATES RCPNW juillet 2025
DESCRIPTION: DATES RCPNW juillet 2025\nhttps://zone-membres.sf-cancers-enfant.com/events/dates-rcpnw-juillet-2025/
URL:https://zone-membres.sf-cancers-enfant.com/events/dates-rcpnw-juillet-2025/
END:VEVENT
END:VCALENDAR